BEGIN:VCALENDAR
VERSION:2.0
PRODID:-//ChamberMaster//Event Calendar 2.0//EN
METHOD:PUBLISH
X-PUBLISHED-TTL:P3D
REFRESH-INTERVAL:P3D
CALSCALE:GREGORIAN
BEGIN:VEVENT
DTSTART:20191004T123000Z
DTEND:20191004T180000Z
X-MICROSOFT-CDO-ALLDAYEVENT:FALSE
SUMMARY:BBMC 2019 Annual Golf Tournament and Fundrasier
DESCRIPTION:The Big Bend Minority Chamber of Commerce Foundation (BBMC) is a 501c3 organization headquartered in Tallahassee\, Florida\, with a mission to help grow small business enterprises owned by women and ethnic minorities in a five-county region of north Florida's Big Bend region.\n\n \n\nWe have taken our golf tournament to exciting new levels and have partnered with Leon County Schools. Designated proceeds from our tournament will be used to benefit Title One Schools in Leon County\, Florida.\n\n \n            We are seeking partners with a belief in small business enterprises as viable               resources in the construction industry and beyond.\n\nTitle Sponsor - $10\,000\n\n\n	Opportunity to provide welcome comments at the Golf Tournament\n	 Welcome letter distributed to all players\n	 Name recognitions in all press releases\, radio advertisements and social media related to the event\n	Recognition at Tournament as principal sponsors of the event\n	 Logo included on BBMC website and shared on social media\n	 Name/Logo featured in all participant materials\n	 Name/Logo featured on all on-course signage\n	Team of 8 golfers\n\n\n \n\nGold Sponsor - $5\,000\n\n\n	Recognition at Golf Tournament as supporting sponsors of the event\n	Name recognitions in all press releases and social media related to the event\n	 Name/Logo featured on BBMC Website\n	Name/Logo displayed at the course\n	Team of 4 golfers\n\n\n \n\nSilver Sponsor - $2\,500\n\n\n	Name/Logo Included on BBMC website & social media\n	Recognition at Golf Tournament as supporting sponsors of the event\n	Name/Logo displayed at the course\n	Team of 4 golfers\n\n\n \n\nBronze Sponsor - $1\,000\n\n\n	Name/Logo included on BBMC website\n	Recognition at Golf Tournament as supporting sponsors of the event\n	Team of 4 golfers
X-ALT-DESC;FMTTYPE=text/html:<p style="margin: 0px 47.46px 0px 48px\; text-align: justify\;"><span style="font-size:16px\;"><font face="Bahnschrift Light">The Big Bend Minority Chamber of Commerce Foundation (BBMC) is a 501c3 organization headquartered in Tallahassee\, Florida\, with a mission to help grow small business enterprises owned by women and ethnic minorities in a five-county region of north Florida&rsquo\;s Big Bend region.</font></span></p>\n\n<p style="margin: 0.73px 0px 0px\;"><span style="font-size:16px\;"><span style="margin: 0px\;"><font face="Bahnschrift Light">&nbsp\;</font></span></span></p>\n\n<p style="margin: 0px 47.53px 0px 48px\; text-align: justify\;"><font face="Bahnschrift Light"><font size="3">W<span style="margin: 0px\; letter-spacing: -0.15pt\;">e </span>have taken our golf tournament to exciting new levels and have partnered with<span style="margin: 0px\; letter-spacing: -0.4pt\;"> </span>Leon<span style="margin: 0px\; letter-spacing: -0.4pt\;"> </span>County<span style="margin: 0px\; letter-spacing: -0.35pt\;"> </span>Schools. Designated proceeds from our tournament will be used to benefit Title One Schools in Leon County\,<span style="margin: 0px\; letter-spacing: -0.25pt\;"> </span>Florida.</font></font></p>\n\n<p style="margin: 0px\;"><span style="font-size:16px\;"><font color="#000000" face="Bahnschrift Light">&nbsp\;</font></span></p>\n&nbsp\;&nbsp\;&nbsp\;&nbsp\;&nbsp\;&nbsp\;&nbsp\;&nbsp\;&nbsp\;&nbsp\;&nbsp\;&nbsp\;<span style="font-size:16px\;"><span style="margin: 0px\; font-family: &quot\;Bahnschrift Light&quot\;\,sans-serif\;"><font color="#000000">We are seeking partners with a belief in small business enterprises as viable</font></span></span> &nbsp\; &nbsp\;&nbsp\;&nbsp\;&nbsp\;&nbsp\;&nbsp\;&nbsp\;&nbsp\;&nbsp\;&nbsp\;&nbsp\;<span style="font-size:16px\;">&nbsp\;r<span style="margin: 0px\; font-family: &quot\;Bahnschrift Light&quot\;\,sans-serif\;"><font color="#000000">esources in the construction industry and beyond.</font></span></span>\n\n<h2 style="background-color: transparent\; color: rgb(51\, 51\, 51)\; font-family: sans-serif\,Arial\,Verdana\,&amp\;quot\;Trebuchet MS&amp\;quot\;\; font-size: 19.53px\; font-style: normal\; font-variant: normal\; font-weight: 400\; letter-spacing: normal\; line-height: 23.43px\; margin-bottom: 0px\; margin-left: 48px\; margin-right: 0px\; margin-top: 7px\; orphans: 2\; text-align: left\; text-decoration: none\; text-indent: 0px\; text-transform: none\; -webkit-text-stroke-width: 0px\; white-space: normal\; word-spacing: 0px\;"><strong style="font-weight: 700\; line-height: 23.43px\;"><i style="font-weight: 700\; line-height: 23.43px\;"><font color="#000000" face="Bahnschrift Light" style="font-weight: 700\; line-height: 23.43px\;">Title Sponsor - $10\,000</font></i></strong></h2>\n\n<ul style="background-color: transparent\; color: rgb(51\, 51\, 51)\; font-family: sans-serif\,Arial\,Verdana\,&amp\;quot\;Trebuchet MS&amp\;quot\;\; font-size: 13px\; font-style: normal\; font-variant: normal\; font-weight: 400\; letter-spacing: normal\; orphans: 2\; padding-bottom: 0px\; padding-left: 40px\; padding-right: 40px\; padding-top: 0px\; text-align: left\; text-decoration: none\; text-indent: 0px\; text-transform: none\; -webkit-text-stroke-width: 0px\; white-space: normal\; word-spacing: 0px\;">\n	<li style="margin-bottom: 0px\; margin-left: 96px\; margin-right: 0px\; margin-top: 0px\;"><font color="#000000" style="background-color: transparent\; color: rgb(0\, 0\, 0)\; cursor: text\; font-family: sans-serif\,Arial\,Verdana\,&amp\;quot\;Trebuchet MS&amp\;quot\;\; font-size: 13px\; line-height: 20.8px\; margin-bottom: 0px\; margin-left: 0px\; margin-right: 0px\; margin-top: 0px\;"><span style="font-size: 16px\; margin-bottom: 0px\; margin-left: 0px\; margin-right: 0px\; margin-top: 0px\;"><font face="Bahnschrift Light">Opportunity to provide welcome comments at the Golf<span style="letter-spacing: -0.73px\; margin-bottom: 0px\; margin-left: 0px\; margin-right: 0px\; margin-top: 0px\;"> </span>Tournament</font></span></font></li>\n	<li style="margin-bottom: 0px\; margin-left: 96px\; margin-right: 0px\; margin-top: 0px\;"><font color="#000000" style="background-color: transparent\; color: rgb(0\, 0\, 0)\; cursor: text\; font-family: sans-serif\,Arial\,Verdana\,&amp\;quot\;Trebuchet MS&amp\;quot\;\; font-size: 13px\; line-height: 20.8px\; margin-bottom: 0px\; margin-left: 0px\; margin-right: 0px\; margin-top: 0px\;"><span style="font-family: &amp\;quot\;Times New Roman&amp\;quot\;\,serif\; font-size: 16px\; letter-spacing: -0.33px\; margin-bottom: 0px\; margin-left: 0px\; margin-right: 0px\; margin-top: 0px\;"><span style="margin-bottom: 0px\; margin-left: 0px\; margin-right: 0px\; margin-top: 0px\;"><span style="font-family: &amp\;quot\;Times New Roman&amp\;quot\;\; font-size: 9.33px\; font-size-adjust: none\; font-stretch: 100%\; font-style: normal\; font-variant: normal\; font-weight: 400\; line-height: normal\; margin-bottom: 0px\; margin-left: 0px\; margin-right: 0px\; margin-top: 0px\;">&nbsp\;</span></span></span><span style="font-size: 16px\; margin-bottom: 0px\; margin-left: 0px\; margin-right: 0px\; margin-top: 0px\;"><font face="Bahnschrift Light">Welcome letter distributed to all<span style="letter-spacing: -0.6px\; margin-bottom: 0px\; margin-left: 0px\; margin-right: 0px\; margin-top: 0px\;"> </span>players</font></span></font></li>\n	<li style="line-height: 13.33px\; margin-bottom: 0px\; margin-left: 96px\; margin-right: 68.6px\; margin-top: 0.06px\;"><font color="#000000"><span style="font-family: &amp\;quot\;Times New Roman&amp\;quot\;\,serif\; font-size: 16px\; letter-spacing: -0.33px\; line-height: 16px\; margin-bottom: 0px\; margin-left: 0px\; margin-right: 0px\; margin-top: 0px\;"><span style="margin-bottom: 0px\; margin-left: 0px\; margin-right: 0px\; margin-top: 0px\;"><span style="font-family: &amp\;quot\;Times New Roman&amp\;quot\;\; font-size: 9.33px\; font-size-adjust: none\; font-stretch: 100%\; font-style: normal\; font-variant: normal\; font-weight: 400\; line-height: normal\; margin-bottom: 0px\; margin-left: 0px\; margin-right: 0px\; margin-top: 0px\;">&nbsp\;</span></span></span><span style="font-size: 16px\; line-height: 16px\; margin-bottom: 0px\; margin-left: 0px\; margin-right: 0px\; margin-top: 0px\;"><font face="Bahnschrift Light">Name recognitions in all press releases\, radio advertisements and social media related to the event</font></span></font></li>\n	<li style="line-height: 19.26px\; margin-bottom: 0px\; margin-left: 96px\; margin-right: 0px\; margin-top: 0.06px\;"><font color="#000000"><span style="font-size: 16px\; margin-bottom: 0px\; margin-left: 0px\; margin-right: 0px\; margin-top: 0px\;"><font face="Bahnschrift Light">Recognition at Tournament as principal sponsors of the<span style="letter-spacing: -0.66px\; margin-bottom: 0px\; margin-left: 0px\; margin-right: 0px\; margin-top: 0px\;"> </span>event</font></span></font></li>\n	<li style="margin-bottom: 0px\; margin-left: 96px\; margin-right: 0px\; margin-top: 0px\;"><font color="#000000" style="background-color: transparent\; color: rgb(0\, 0\, 0)\; cursor: text\; font-family: sans-serif\,Arial\,Verdana\,&amp\;quot\;Trebuchet MS&amp\;quot\;\; font-size: 13px\; line-height: 20.8px\; margin-bottom: 0px\; margin-left: 0px\; margin-right: 0px\; margin-top: 0px\;"><span style="font-family: &amp\;quot\;Times New Roman&amp\;quot\;\,serif\; font-size: 16px\; letter-spacing: -0.33px\; margin-bottom: 0px\; margin-left: 0px\; margin-right: 0px\; margin-top: 0px\;"><span style="margin-bottom: 0px\; margin-left: 0px\; margin-right: 0px\; margin-top: 0px\;"><span style="font-family: &amp\;quot\;Times New Roman&amp\;quot\;\; font-size: 9.33px\; font-size-adjust: none\; font-stretch: 100%\; font-style: normal\; font-variant: normal\; font-weight: 400\; line-height: normal\; margin-bottom: 0px\; margin-left: 0px\; margin-right: 0px\; margin-top: 0px\;">&nbsp\;</span></span></span><span style="font-size: 16px\; margin-bottom: 0px\; margin-left: 0px\; margin-right: 0px\; margin-top: 0px\;"><font face="Bahnschrift Light">Logo included on BBMC website and shared on social<span style="letter-spacing: -0.8px\; margin-bottom: 0px\; margin-left: 0px\; margin-right: 0px\; margin-top: 0px\;"> </span>media</font></span></font></li>\n	<li style="margin-bottom: 0px\; margin-left: 96px\; margin-right: 0px\; margin-top: 0px\;"><font color="#000000" style="background-color: transparent\; color: rgb(0\, 0\, 0)\; cursor: text\; font-family: sans-serif\,Arial\,Verdana\,&amp\;quot\;Trebuchet MS&amp\;quot\;\; font-size: 13px\; line-height: 20.8px\; margin-bottom: 0px\; margin-left: 0px\; margin-right: 0px\; margin-top: 0px\;"><span style="font-family: &amp\;quot\;Times New Roman&amp\;quot\;\,serif\; font-size: 16px\; letter-spacing: -0.33px\; margin-bottom: 0px\; margin-left: 0px\; margin-right: 0px\; margin-top: 0px\;"><span style="margin-bottom: 0px\; margin-left: 0px\; margin-right: 0px\; margin-top: 0px\;"><span style="font-family: &amp\;quot\;Times New Roman&amp\;quot\;\; font-size: 9.33px\; font-size-adjust: none\; font-stretch: 100%\; font-style: normal\; font-variant: normal\; font-weight: 400\; line-height: normal\; margin-bottom: 0px\; margin-left: 0px\; margin-right: 0px\; margin-top: 0px\;">&nbsp\;</span></span></span><span style="font-size: 16px\; margin-bottom: 0px\; margin-left: 0px\; margin-right: 0px\; margin-top: 0px\;"><font face="Bahnschrift Light">Name/Logo featured in all participant<span style="letter-spacing: -0.66px\; margin-bottom: 0px\; margin-left: 0px\; margin-right: 0px\; margin-top: 0px\;"> </span>materials</font></span></font></li>\n	<li style="margin-bottom: 0px\; margin-left: 96px\; margin-right: 0px\; margin-top: 0px\;"><font color="#000000" style="background-color: transparent\; color: rgb(0\, 0\, 0)\; cursor: text\; font-family: sans-serif\,Arial\,Verdana\,&amp\;quot\;Trebuchet MS&amp\;quot\;\; font-size: 13px\; line-height: 20.8px\; margin-bottom: 0px\; margin-left: 0px\; margin-right: 0px\; margin-top: 0px\;"><span style="font-family: &amp\;quot\;Times New Roman&amp\;quot\;\,serif\; font-size: 16px\; letter-spacing: -0.33px\; margin-bottom: 0px\; margin-left: 0px\; margin-right: 0px\; margin-top: 0px\;"><span style="margin-bottom: 0px\; margin-left: 0px\; margin-right: 0px\; margin-top: 0px\;"><span style="font-family: &amp\;quot\;Times New Roman&amp\;quot\;\; font-size: 9.33px\; font-size-adjust: none\; font-stretch: 100%\; font-style: normal\; font-variant: normal\; font-weight: 400\; line-height: normal\; margin-bottom: 0px\; margin-left: 0px\; margin-right: 0px\; margin-top: 0px\;">&nbsp\;</span></span></span><span style="font-size: 16px\; margin-bottom: 0px\; margin-left: 0px\; margin-right: 0px\; margin-top: 0px\;"><font face="Bahnschrift Light">Name/Logo featured on all on-course<span style="letter-spacing: -0.53px\; margin-bottom: 0px\; margin-left: 0px\; margin-right: 0px\; margin-top: 0px\;"> </span>signage</font></span></font></li>\n	<li style="line-height: 19.26px\; margin-bottom: 0px\; margin-left: 96px\; margin-right: 0px\; margin-top: 0px\;"><font color="#000000"><span style="font-size: 16px\; margin-bottom: 0px\; margin-left: 0px\; margin-right: 0px\; margin-top: 0px\;"><font face="Bahnschrift Light">Team of 8<span style="letter-spacing: -0.33px\; margin-bottom: 0px\; margin-left: 0px\; margin-right: 0px\; margin-top: 0px\;"> </span>golfers</font></span></font></li>\n</ul>\n\n<p style="background-color: transparent\; color: rgb(51\, 51\, 51)\; font-family: sans-serif\,Arial\,Verdana\,&amp\;quot\;Trebuchet MS&amp\;quot\;\; font-size: 13px\; font-style: normal\; font-variant: normal\; font-weight: 400\; letter-spacing: normal\; margin-bottom: 0px\; margin-left: 0px\; margin-right: 0px\; margin-top: 0.73px\; orphans: 2\; text-align: left\; text-decoration: none\; text-indent: 0px\; text-transform: none\; -webkit-text-stroke-width: 0px\; white-space: normal\; word-spacing: 0px\;"><span style="font-size: 14.66px\; margin-bottom: 0px\; margin-left: 0px\; margin-right: 0px\; margin-top: 0px\;"><font color="#000000" face="Bahnschrift Light">&nbsp\;</font></span></p>\n\n<h2 style="background-color: transparent\; color: rgb(51\, 51\, 51)\; font-family: sans-serif\,Arial\,Verdana\,&amp\;quot\;Trebuchet MS&amp\;quot\;\; font-size: 19.53px\; font-style: normal\; font-variant: normal\; font-weight: 400\; letter-spacing: normal\; line-height: 23.43px\; margin-bottom: 0px\; margin-left: 48px\; margin-right: 0px\; margin-top: 0.06px\; orphans: 2\; text-align: left\; text-decoration: none\; text-indent: 0px\; text-transform: none\; -webkit-text-stroke-width: 0px\; white-space: normal\; word-spacing: 0px\;"><strong style="font-weight: 700\; line-height: 23.43px\;"><i style="font-weight: 700\; line-height: 23.43px\;"><font color="#000000" face="Bahnschrift Light" style="font-weight: 700\; line-height: 23.43px\;">Gold Sponsor - $5\,000</font></i></strong></h2>\n\n<ul style="background-color: transparent\; color: rgb(51\, 51\, 51)\; font-family: sans-serif\,Arial\,Verdana\,&amp\;quot\;Trebuchet MS&amp\;quot\;\; font-size: 13px\; font-style: normal\; font-variant: normal\; font-weight: 400\; letter-spacing: normal\; orphans: 2\; padding-bottom: 0px\; padding-left: 40px\; padding-right: 40px\; padding-top: 0px\; text-align: left\; text-decoration: none\; text-indent: 0px\; text-transform: none\; -webkit-text-stroke-width: 0px\; white-space: normal\; word-spacing: 0px\;">\n	<li style="margin-bottom: 0px\; margin-left: 96px\; margin-right: 0px\; margin-top: 0px\;"><font color="#000000" style="background-color: transparent\; color: rgb(0\, 0\, 0)\; cursor: text\; font-family: sans-serif\,Arial\,Verdana\,&amp\;quot\;Trebuchet MS&amp\;quot\;\; font-size: 13px\; line-height: 20.8px\; margin-bottom: 0px\; margin-left: 0px\; margin-right: 0px\; margin-top: 0px\;"><span style="font-size: 16px\; margin-bottom: 0px\; margin-left: 0px\; margin-right: 0px\; margin-top: 0px\;"><font face="Bahnschrift Light">Recognition at Golf Tournament as supporting sponsors of the<span style="letter-spacing: -0.86px\; margin-bottom: 0px\; margin-left: 0px\; margin-right: 0px\; margin-top: 0px\;"> </span>event</font></span></font></li>\n	<li style="margin-bottom: 0px\; margin-left: 96px\; margin-right: 0px\; margin-top: 0px\;"><font color="#000000" style="background-color: transparent\; color: rgb(0\, 0\, 0)\; cursor: text\; font-family: sans-serif\,Arial\,Verdana\,&amp\;quot\;Trebuchet MS&amp\;quot\;\; font-size: 13px\; line-height: 20.8px\; margin-bottom: 0px\; margin-left: 0px\; margin-right: 0px\; margin-top: 0px\;"><span style="font-size: 16px\; margin-bottom: 0px\; margin-left: 0px\; margin-right: 0px\; margin-top: 0px\;"><font face="Bahnschrift Light">Name recognitions in all press releases and social media related to the<span style="letter-spacing: -1.66px\; margin-bottom: 0px\; margin-left: 0px\; margin-right: 0px\; margin-top: 0px\;"> </span>event</font></span></font></li>\n	<li style="margin-bottom: 0px\; margin-left: 96px\; margin-right: 0px\; margin-top: 0px\;"><font color="#000000" style="background-color: transparent\; color: rgb(0\, 0\, 0)\; cursor: text\; font-family: sans-serif\,Arial\,Verdana\,&amp\;quot\;Trebuchet MS&amp\;quot\;\; font-size: 13px\; line-height: 20.8px\; margin-bottom: 0px\; margin-left: 0px\; margin-right: 0px\; margin-top: 0px\;"><span style="font-family: &amp\;quot\;Times New Roman&amp\;quot\;\,serif\; font-size: 16px\; letter-spacing: -0.33px\; margin-bottom: 0px\; margin-left: 0px\; margin-right: 0px\; margin-top: 0px\;"><span style="margin-bottom: 0px\; margin-left: 0px\; margin-right: 0px\; margin-top: 0px\;"><span style="font-family: &amp\;quot\;Times New Roman&amp\;quot\;\; font-size: 9.33px\; font-size-adjust: none\; font-stretch: 100%\; font-style: normal\; font-variant: normal\; font-weight: 400\; line-height: normal\; margin-bottom: 0px\; margin-left: 0px\; margin-right: 0px\; margin-top: 0px\;">&nbsp\;</span></span></span><span style="font-size: 16px\; margin-bottom: 0px\; margin-left: 0px\; margin-right: 0px\; margin-top: 0px\;"><font face="Bahnschrift Light">Name/Logo featured on BBMC<span style="letter-spacing: -0.4px\; margin-bottom: 0px\; margin-left: 0px\; margin-right: 0px\; margin-top: 0px\;"> </span>Website</font></span></font></li>\n	<li style="margin-bottom: 0px\; margin-left: 96px\; margin-right: 0px\; margin-top: 0px\;"><font color="#000000" style="background-color: transparent\; color: rgb(0\, 0\, 0)\; cursor: text\; font-family: sans-serif\,Arial\,Verdana\,&amp\;quot\;Trebuchet MS&amp\;quot\;\; font-size: 13px\; line-height: 20.8px\; margin-bottom: 0px\; margin-left: 0px\; margin-right: 0px\; margin-top: 0px\;"><span style="font-size: 16px\; margin-bottom: 0px\; margin-left: 0px\; margin-right: 0px\; margin-top: 0px\;"><font face="Bahnschrift Light">Name/Logo displayed at the<span style="letter-spacing: -0.4px\; margin-bottom: 0px\; margin-left: 0px\; margin-right: 0px\; margin-top: 0px\;"> </span>course</font></span></font></li>\n	<li style="line-height: 19.26px\; margin-bottom: 0px\; margin-left: 96px\; margin-right: 0px\; margin-top: 0px\;"><font color="#000000"><span style="font-size: 16px\; margin-bottom: 0px\; margin-left: 0px\; margin-right: 0px\; margin-top: 0px\;"><font face="Bahnschrift Light">Team of 4<span style="letter-spacing: -0.4px\; margin-bottom: 0px\; margin-left: 0px\; margin-right: 0px\; margin-top: 0px\;"> </span>golfers</font></span></font></li>\n</ul>\n\n<p style="background-color: transparent\; color: rgb(51\, 51\, 51)\; font-family: sans-serif\,Arial\,Verdana\,&amp\;quot\;Trebuchet MS&amp\;quot\;\; font-size: 13px\; font-style: normal\; font-variant: normal\; font-weight: 400\; letter-spacing: normal\; margin-bottom: 0px\; margin-left: 0px\; margin-right: 0px\; margin-top: 0.73px\; orphans: 2\; text-align: left\; text-decoration: none\; text-indent: 0px\; text-transform: none\; -webkit-text-stroke-width: 0px\; white-space: normal\; word-spacing: 0px\;"><span style="font-size: 14.66px\; margin-bottom: 0px\; margin-left: 0px\; margin-right: 0px\; margin-top: 0px\;"><font color="#000000" face="Bahnschrift Light">&nbsp\;</font></span></p>\n\n<h2 style="background-color: transparent\; color: rgb(51\, 51\, 51)\; font-family: sans-serif\,Arial\,Verdana\,&amp\;quot\;Trebuchet MS&amp\;quot\;\; font-size: 19.53px\; font-style: normal\; font-variant: normal\; font-weight: 400\; letter-spacing: normal\; line-height: 23.43px\; margin-bottom: 0px\; margin-left: 48px\; margin-right: 0px\; margin-top: 0px\; orphans: 2\; text-align: left\; text-decoration: none\; text-indent: 0px\; text-transform: none\; -webkit-text-stroke-width: 0px\; white-space: normal\; word-spacing: 0px\;"><strong style="font-weight: 700\; line-height: 23.43px\;"><i style="font-weight: 700\; line-height: 23.43px\;"><font color="#000000" face="Bahnschrift Light" style="font-weight: 700\; line-height: 23.43px\;">Silver Sponsor - $2\,500</font></i></strong></h2>\n\n<ul style="background-color: transparent\; color: rgb(51\, 51\, 51)\; font-family: sans-serif\,Arial\,Verdana\,&amp\;quot\;Trebuchet MS&amp\;quot\;\; font-size: 13px\; font-style: normal\; font-variant: normal\; font-weight: 400\; letter-spacing: normal\; orphans: 2\; padding-bottom: 0px\; padding-left: 40px\; padding-right: 40px\; padding-top: 0px\; text-align: left\; text-decoration: none\; text-indent: 0px\; text-transform: none\; -webkit-text-stroke-width: 0px\; white-space: normal\; word-spacing: 0px\;">\n	<li style="margin-bottom: 0px\; margin-left: 96px\; margin-right: 0px\; margin-top: 0px\;"><font color="#000000" style="background-color: transparent\; color: rgb(0\, 0\, 0)\; cursor: text\; font-family: sans-serif\,Arial\,Verdana\,&amp\;quot\;Trebuchet MS&amp\;quot\;\; font-size: 13px\; line-height: 20.8px\; margin-bottom: 0px\; margin-left: 0px\; margin-right: 0px\; margin-top: 0px\;"><span style="font-size: 16px\; margin-bottom: 0px\; margin-left: 0px\; margin-right: 0px\; margin-top: 0px\;"><font face="Bahnschrift Light">Name/Logo Included on BBMC website &amp\; social<span style="letter-spacing: -0.53px\; margin-bottom: 0px\; margin-left: 0px\; margin-right: 0px\; margin-top: 0px\;"> </span>media</font></span></font></li>\n	<li style="margin-bottom: 0px\; margin-left: 96px\; margin-right: 0px\; margin-top: 0px\;"><font color="#000000" style="background-color: transparent\; color: rgb(0\, 0\, 0)\; cursor: text\; font-family: sans-serif\,Arial\,Verdana\,&amp\;quot\;Trebuchet MS&amp\;quot\;\; font-size: 13px\; line-height: 20.8px\; margin-bottom: 0px\; margin-left: 0px\; margin-right: 0px\; margin-top: 0px\;"><span style="font-size: 16px\; margin-bottom: 0px\; margin-left: 0px\; margin-right: 0px\; margin-top: 0px\;"><font face="Bahnschrift Light">Recognition at Golf Tournament as supporting sponsors of the<span style="letter-spacing: -0.86px\; margin-bottom: 0px\; margin-left: 0px\; margin-right: 0px\; margin-top: 0px\;"> </span>event</font></span></font></li>\n	<li style="margin-bottom: 0px\; margin-left: 96px\; margin-right: 0px\; margin-top: 0px\;"><font color="#000000" style="background-color: transparent\; color: rgb(0\, 0\, 0)\; cursor: text\; font-family: sans-serif\,Arial\,Verdana\,&amp\;quot\;Trebuchet MS&amp\;quot\;\; font-size: 13px\; line-height: 20.8px\; margin-bottom: 0px\; margin-left: 0px\; margin-right: 0px\; margin-top: 0px\;"><span style="font-size: 16px\; margin-bottom: 0px\; margin-left: 0px\; margin-right: 0px\; margin-top: 0px\;"><font face="Bahnschrift Light">Name/Logo displayed at the<span style="letter-spacing: -0.4px\; margin-bottom: 0px\; margin-left: 0px\; margin-right: 0px\; margin-top: 0px\;"> </span>course</font></span></font></li>\n	<li style="line-height: 19.26px\; margin-bottom: 0px\; margin-left: 96px\; margin-right: 0px\; margin-top: 0px\;"><font color="#000000"><span style="font-size: 16px\; margin-bottom: 0px\; margin-left: 0px\; margin-right: 0px\; margin-top: 0px\;"><font face="Bahnschrift Light">Team of 4<span style="letter-spacing: -0.4px\; margin-bottom: 0px\; margin-left: 0px\; margin-right: 0px\; margin-top: 0px\;"> </span>golfers</font></span></font></li>\n</ul>\n\n<p style="background-color: transparent\; color: rgb(51\, 51\, 51)\; font-family: sans-serif\,Arial\,Verdana\,&amp\;quot\;Trebuchet MS&amp\;quot\;\; font-size: 13px\; font-style: normal\; font-variant: normal\; font-weight: 400\; letter-spacing: normal\; margin-bottom: 0px\; margin-left: 0px\; margin-right: 0px\; margin-top: 0px\; orphans: 2\; text-align: left\; text-decoration: none\; text-indent: 0px\; text-transform: none\; -webkit-text-stroke-width: 0px\; white-space: normal\; word-spacing: 0px\;"><span style="font-size: 15.33px\; margin-bottom: 0px\; margin-left: 0px\; margin-right: 0px\; margin-top: 0px\;"><font color="#000000" face="Bahnschrift Light">&nbsp\;</font></span></p>\n\n<h2 style="background-color: transparent\; color: rgb(51\, 51\, 51)\; font-family: sans-serif\,Arial\,Verdana\,&amp\;quot\;Trebuchet MS&amp\;quot\;\; font-size: 19.53px\; font-style: normal\; font-variant: normal\; font-weight: 400\; letter-spacing: normal\; line-height: 23.43px\; margin-bottom: 0px\; margin-left: 48px\; margin-right: 0px\; margin-top: 0px\; orphans: 2\; text-align: left\; text-decoration: none\; text-indent: 0px\; text-transform: none\; -webkit-text-stroke-width: 0px\; white-space: normal\; word-spacing: 0px\;"><strong style="font-weight: 700\; line-height: 23.43px\;"><i style="font-weight: 700\; line-height: 23.43px\;"><font color="#000000" face="Bahnschrift Light" style="font-weight: 700\; line-height: 23.43px\;">Bronze Sponsor - $1\,000</font></i></strong></h2>\n\n<ul style="background-color: transparent\; color: rgb(51\, 51\, 51)\; font-family: sans-serif\,Arial\,Verdana\,&amp\;quot\;Trebuchet MS&amp\;quot\;\; font-size: 13px\; font-style: normal\; font-variant: normal\; font-weight: 400\; letter-spacing: normal\; orphans: 2\; padding-bottom: 0px\; padding-left: 40px\; padding-right: 40px\; padding-top: 0px\; text-align: left\; text-decoration: none\; text-indent: 0px\; text-transform: none\; -webkit-text-stroke-width: 0px\; white-space: normal\; word-spacing: 0px\;">\n	<li style="margin-bottom: 0px\; margin-left: 96px\; margin-right: 0px\; margin-top: 0px\;"><font color="#000000" style="background-color: transparent\; color: rgb(0\, 0\, 0)\; cursor: text\; font-family: sans-serif\,Arial\,Verdana\,&amp\;quot\;Trebuchet MS&amp\;quot\;\; font-size: 13px\; line-height: 20.8px\; margin-bottom: 0px\; margin-left: 0px\; margin-right: 0px\; margin-top: 0px\;"><span style="font-size: 16px\; margin-bottom: 0px\; margin-left: 0px\; margin-right: 0px\; margin-top: 0px\;"><font face="Bahnschrift Light">Name/Logo included on BBMC<span style="letter-spacing: -0.33px\; margin-bottom: 0px\; margin-left: 0px\; margin-right: 0px\; margin-top: 0px\;"> </span>website</font></span></font></li>\n	<li style="margin-bottom: 0px\; margin-left: 96px\; margin-right: 0px\; margin-top: 0px\;"><font color="#000000" style="background-color: transparent\; color: rgb(0\, 0\, 0)\; cursor: text\; font-family: sans-serif\,Arial\,Verdana\,&amp\;quot\;Trebuchet MS&amp\;quot\;\; font-size: 13px\; line-height: 20.8px\; margin-bottom: 0px\; margin-left: 0px\; margin-right: 0px\; margin-top: 0px\;"><span style="font-size: 16px\; margin-bottom: 0px\; margin-left: 0px\; margin-right: 0px\; margin-top: 0px\;"><font face="Bahnschrift Light">Recognition at Golf Tournament as supporting </font></span></font><font color="#000000" style="background-color: transparent\; color: rgb(0\, 0\, 0)\; cursor: text\; font-family: sans-serif\,Arial\,Verdana\,&amp\;quot\;Trebuchet MS&amp\;quot\;\; font-size: 13px\; line-height: 20.8px\; margin-bottom: 0px\; margin-left: 0px\; margin-right: 0px\; margin-top: 0px\;"><span style="font-size: 16px\; margin-bottom: 0px\; margin-left: 0px\; margin-right: 0px\; margin-top: 0px\;"><font face="Bahnschrift Light">sponsors of the<span style="letter-spacing: -0.86px\; margin-bottom: 0px\; margin-left: 0px\; margin-right: 0px\; margin-top: 0px\;"> </span>event</font></span></font></li>\n	<li style="margin-bottom: 0px\; margin-left: 96px\; margin-right: 0px\; margin-top: 0px\;"><font color="#000000" style="background-color: transparent\; color: rgb(0\, 0\, 0)\; cursor: text\; font-family: sans-serif\,Arial\,Verdana\,&amp\;quot\;Trebuchet MS&amp\;quot\;\; font-size: 13px\; line-height: 20.8px\; margin-bottom: 0px\; margin-left: 0px\; margin-right: 0px\; margin-top: 0px\;"><span style="font-size: 16px\; margin-bottom: 0px\; margin-left: 0px\; margin-right: 0px\; margin-top: 0px\;"><font face="Bahnschrift Light"><font color="#000000"><span style="font-size: 16px\; margin-bottom: 0px\; margin-left: 0px\; margin-right: 0px\; margin-top: 0px\;"><font face="Bahnschrift Light"><span style="font-family: &amp\;quot\;Bahnschrift Light&amp\;quot\;\,sans-serif\; font-size: 16px\; margin-bottom: 0px\; margin-left: 0px\; margin-right: 0px\; margin-top: 0px\;"><font color="#000000">Team of 4<span style="letter-spacing: -0.4px\; margin-bottom: 0px\; margin-left: 0px\; margin-right: 0px\; margin-top: 0px\;"> </span>golfers</font></span></font></span></font></font></span></font></li>\n</ul>\n<br />\n&nbsp\;
LOCATION:Southwood Golf Club 3750 Grove Park | Tallahassee\, FL
UID:e.3363.5
SEQUENCE:3
DTSTAMP:20260421T132051Z
URL:https://members.mybbmc.org/events/details/bbmc-2019-annual-golf-tournament-and-fundrasier-5
END:VEVENT

END:VCALENDAR
