BEGIN:VCALENDAR
VERSION:2.0
PRODID:-//ChamberMaster//Event Calendar 2.0//EN
METHOD:PUBLISH
X-PUBLISHED-TTL:P3D
REFRESH-INTERVAL:P3D
CALSCALE:GREGORIAN
BEGIN:VEVENT
DTSTART;VALUE=DATE:20191017
DTEND;VALUE=DATE:20191018
TRANSP:TRANSPARENT
X-MICROSOFT-CDO-ALLDAYEVENT:TRUE
SUMMARY:Big Bend Minority Chamber of Commerce Women Business Council Presents Cheryl McKissack-Daniels
DESCRIPTION:Lunch with Cheryl McKissack-Daniels
X-ALT-DESC;FMTTYPE=text/html:<span style="font-size:16px\;">Lunch with Cheryl McKissack-Daniels</span>
LOCATION:Florida A&M University Grand Ballroom 1925 S Martin Luther King Blvd Tallahassee\, Florida
UID:e.3363.6
SEQUENCE:3
DTSTAMP:20260421T131541Z
URL:https://members.mybbmc.org/events/details/big-bend-minority-chamber-of-commerce-women-business-council-presents-cheryl-mckissack-daniels-6
END:VEVENT

END:VCALENDAR
