BEGIN:VCALENDAR
VERSION:2.0
PRODID:-//ChamberMaster//Event Calendar 2.0//EN
METHOD:PUBLISH
X-PUBLISHED-TTL:P3D
REFRESH-INTERVAL:P3D
CALSCALE:GREGORIAN
BEGIN:VEVENT
DTSTART:20260608T130000Z
DTEND:20260618T193000Z
X-MICROSOFT-CDO-ALLDAYEVENT:FALSE
SUMMARY:Camp Treppie 2026 - "The Treppie Experience"
DESCRIPTION:CAMP 'TREPPIE is a ten-day summer leadership program that seeks to strengthen Tallahassee/Leon County's foundation for future growth and opportunities by introducing aspiring young entrepreneurs in grades 8th thru 12th about the concepts for being successful\, contributing members of society. While the camp is centered around entrepreneurship and small business development\, the larger vision is to imbue young people with tools that can be used for a lifetime.\n\n\n\nFor six hours each day over a ten-day period\, campers are immersed in learning activities that focus on three key components of entrepreneurship: the entrepreneurial leadership mindset\, the basics of building on a creative business idea\, and the tools of financial literacy. These components extend far beyond the confines of small business ideation. These are life skills that campers can and will use well into adulthood.\n\n\n\nThis year we are excited that Tallahassee State College (TSC) is partnering with us to create a larger opportunity for our campers to continue their entrepreneurial ideas beyond the camp.
X-ALT-DESC;FMTTYPE=text/html:<span style="font-family:arial\;"><span style="font-size:20px\;">CAMP &lsquo\;TREPPIE is a ten-day summer leadership program that seeks to strengthen Tallahassee/Leon County&rsquo\;s foundation for future growth and opportunities by introducing aspiring young entrepreneurs in grades 8th thru 12th about the concepts for being successful\, contributing members of society. While the camp is centered around entrepreneurship and small business development\, the larger vision is to imbue young people with tools that can be used for a lifetime.</span><br />\n<br />\n<span style="font-size: 20px\;">For six hours each day over a ten-day period\, campers are immersed in learning activities that focus on three key components of entrepreneurship: the entrepreneurial leadership mindset\, the basics of building on a creative business idea\, and the tools of financial literacy. These components extend far beyond the confines of small business ideation. These are life skills that campers can and will use well into adulthood.</span><br style="font-family: arial\; font-size: 20px\;" />\n<br />\n<span style="font-size:20px\;">This year we are excited that Tallahassee State College (TSC) is partnering with us to create a larger opportunity for our campers to continue their entrepreneurial ideas beyond the camp.&nbsp\;&nbsp\;<br />\n<br />\n&nbsp\;</span></span>\n<p style="overflow-wrap: break-word\; color: rgb(77\, 77\, 77)\; font-family: Montserrat\; font-size: 18px\; letter-spacing: 0.27px\; white-space: pre-wrap\;">&nbsp\;</p>\n
LOCATION:Tallahassee State College (TSC) History and Life Science Building\, Room 108
UID:e.3363.1319
SEQUENCE:3
DTSTAMP:20260425T023427Z
URL:https://members.mybbmc.org/events/details/camp-treppie-2026-the-treppie-experience-1319
END:VEVENT

END:VCALENDAR
