BEGIN:VCALENDAR
VERSION:2.0
PRODID:-//ChamberMaster//Event Calendar 2.0//EN
METHOD:PUBLISH
X-PUBLISHED-TTL:P3D
REFRESH-INTERVAL:P3D
CALSCALE:GREGORIAN
BEGIN:VEVENT
DTSTART:20190711T223000Z
DTEND:20190712T010000Z
X-MICROSOFT-CDO-ALLDAYEVENT:FALSE
SUMMARY:Ladies' Night Out at Tallahassee Community College
DESCRIPTION:This event sponsored by Tallahassee Community College is designed to intro Women and Girls to Non-Traditional Careers.
X-ALT-DESC;FMTTYPE=text/html:This event sponsored by Tallahassee Community College is designed to intro Women and Girls to Non-Traditional Careers.&nbsp\;
LOCATION:Kim B. Williams Advanced Manufacturing Training Center 3958 West Pensacola Street Tallahassee\, Florida 32304
UID:e.3363.2
SEQUENCE:3
DTSTAMP:20260421T193333Z
URL:https://members.mybbmc.org/events/details/ladies-night-out-at-tallahassee-community-college-2
END:VEVENT

END:VCALENDAR
