BEGIN:VCALENDAR
VERSION:2.0
PRODID:-//ChamberMaster//Event Calendar 2.0//EN
METHOD:PUBLISH
X-PUBLISHED-TTL:P3D
REFRESH-INTERVAL:P3D
CALSCALE:GREGORIAN
BEGIN:VEVENT
DTSTART:20350330T220000Z
DTEND:20350331T020000Z
X-MICROSOFT-CDO-ALLDAYEVENT:FALSE
SUMMARY:Last Laugh Fridays Comedy Show
DESCRIPTION:Close out your month with laughter at Last Laugh Fridays\, a live comedy night hosted inside Bwembya's Market & Art Gallery. Each month features emerging and regional comedians delivering fresh\, unfiltered sets in an intimate\, creative setting that blends art\, culture\, and community.\n\n\n\nWhether you're discovering new comedic voices or enjoying a night out with friends\, Last Laugh Fridays offers a relaxed\, small-town vibe with big personality. Seating is limited to maintain an up-close\, engaging experience.\n\n\n\n?? Live stand-up comedy\n\n?? Limited reserved seating\n\n?? Hosted inside a working art gallery\n\n?? 23 N. Madison St.\, Quincy\, FL\n\n\n\nReserve your seat in advance.\n\nTickets are released monthly and often sell out.\n\n\n\nInterested in performing or partnering as a sponsor? Contact Bwembya's Market or Phi Entertainment for opportunities.
X-ALT-DESC;FMTTYPE=text/html:<span style="background-color:rgb(245\, 243\, 239)\; color:rgb(0\, 0\, 0)\; font-family:libre franklin\; font-size:16px">Close out your month with laughter at&nbsp\;Last Laugh Fridays\, a live comedy night hosted inside Bwembya&rsquo\;s Market &amp\; Art Gallery. Each month features emerging and regional comedians delivering fresh\, unfiltered sets in an intimate\, creative setting that blends art\, culture\, and community.</span><br />\n<br />\n<span style="background-color:rgb(245\, 243\, 239)\; color:rgb(0\, 0\, 0)\; font-family:libre franklin\; font-size:16px">Whether you&rsquo\;re discovering new comedic voices or enjoying a night out with friends\, Last Laugh Fridays offers a relaxed\, small-town vibe with big personality. Seating is limited to maintain an up-close\, engaging experience.</span><br />\n<br />\n<span style="background-color:rgb(245\, 243\, 239)\; color:rgb(0\, 0\, 0)\; font-family:libre franklin\; font-size:16px">?? Live stand-up comedy</span><br />\n<span style="background-color:rgb(245\, 243\, 239)\; color:rgb(0\, 0\, 0)\; font-family:libre franklin\; font-size:16px">?? Limited reserved seating</span><br />\n<span style="background-color:rgb(245\, 243\, 239)\; color:rgb(0\, 0\, 0)\; font-family:libre franklin\; font-size:16px">?? Hosted inside a working art gallery</span><br />\n<span style="background-color:rgb(245\, 243\, 239)\; color:rgb(0\, 0\, 0)\; font-family:libre franklin\; font-size:16px">?? 23 N. Madison St.\, Quincy\, FL</span><br />\n<br />\n<span style="background-color:rgb(245\, 243\, 239)\; color:rgb(0\, 0\, 0)\; font-family:libre franklin\; font-size:16px">Reserve your seat in advance.</span><br />\n<span style="background-color:rgb(245\, 243\, 239)\; color:rgb(0\, 0\, 0)\; font-family:libre franklin\; font-size:16px">Tickets are released monthly and often sell out.</span><br />\n<br />\n<span style="background-color:rgb(245\, 243\, 239)\; color:rgb(0\, 0\, 0)\; font-family:libre franklin\; font-size:16px">Interested in performing or partnering as a sponsor? Contact Bwembya&rsquo\;s Market or Phi Entertainment for opportunities.</span>
LOCATION:?? 23 N. Madison St.\, Quincy\, FL
UID:e.3363.1294
SEQUENCE:3
DTSTAMP:20260423T111733Z
URL:https://members.mybbmc.org/events/details/last-laugh-fridays-comedy-show-03-30-2035-1294
END:VEVENT

END:VCALENDAR
