BEGIN:VCALENDAR
VERSION:2.0
PRODID:-//ChamberMaster//Event Calendar 2.0//EN
METHOD:PUBLISH
X-PUBLISHED-TTL:P3D
REFRESH-INTERVAL:P3D
CALSCALE:GREGORIAN
BEGIN:VEVENT
DTSTART:20190721T190000Z
DTEND:20190721T220000Z
X-MICROSOFT-CDO-ALLDAYEVENT:FALSE
SUMMARY:Tallahassee Housing Authority Pre-Proposal Solicitation Workshop
DESCRIPTION:Each year the Tallahassee Housing Authority issue millions of dollars of contract work to tradesman\, contractors\, plumbers\, electricians\, HVAC technicians\, painters\, and other trades. This event is an opportunity for you to learn from Team at Tallahassee Housing Authority on how to lure some of this business to your company.
X-ALT-DESC;FMTTYPE=text/html:Each year the Tallahassee Housing Authority issue millions of dollars of contract work to tradesman\, contractors\, plumbers\, electricians\, HVAC technicians\, painters\, and other trades. This event is an opportunity for you to learn from Team at Tallahassee Housing Authority on how to lure some of this business to your company.&nbsp\;
LOCATION:TERRANCE FREGLY COMMUNITY CENTER PINEWOOD PLACE APARTMENTS 605 Steel Drive Tallahassee\, Florida
UID:e.3363.4
SEQUENCE:3
DTSTAMP:20260421T181004Z
URL:https://members.mybbmc.org/events/details/tallahassee-housing-authority-pre-proposal-solicitation-workshop-4
END:VEVENT

END:VCALENDAR
